BEGIN:VCALENDAR
VERSION:2.0
PRODID:-//Library Market//iCal Export//EN
BEGIN:VEVENT
SUMMARY:Preschool Storytime
UID:98435
DTSTAMP:20260420T130600Z
DTSTART:20260611T143000Z
DTEND:20260611T150000Z
LOCATION:Evergreen Park Public Library, 9400 S. Troy Ave., Evergreen Park,
  IL 60805, United States
ROOM: Children&#039;s Program Room
DESCRIPTION:Preschool Storytime combines stories and songs for kids from 3
 -5 years old.  Please register.  
URL:https://evergreenparklibrary.librarymarket.com/index.php/event/prescho
 ol-storytime-98435
END:VEVENT
END:VCALENDAR
