BEGIN:VCALENDAR
VERSION:2.0
PRODID:-//Library Market//iCal Export//EN
BEGIN:VEVENT
SUMMARY:Dino Scavenger Hunt
UID:98463
DTSTAMP:20260421T173600Z
DTSTART:20260530T050000Z
DTEND:20260606T050000Z
LOCATION:Evergreen Park Public Library, 9400 S. Troy Ave., Evergreen Park,
  IL 60805, United States
ROOM: Dino Scavenger Hunt
DESCRIPTION:Drop in anytime to find the hidden dinosaur pictures and earn 
 a small prize.  Happy hunting!
URL:https://evergreenparklibrary.librarymarket.com/index.php/event/dino-sc
 avenger-hunt-98463
END:VEVENT
END:VCALENDAR
