BEGIN:VCALENDAR
VERSION:2.0
PRODID:-//Library Market//iCal Export//EN
BEGIN:VEVENT
SUMMARY:Little Archaeologists:  Nature Collages
UID:98477
DTSTAMP:20260426T021100Z
DTSTART:20260612T153000Z
DTEND:20260612T160000Z
LOCATION:Evergreen Park Public Library, 9400 S. Troy Ave., Evergreen Park,
  IL 60805, United States
ROOM: Children&#039;s Program Room
DESCRIPTION:Unearth some fun at Little Archaeologists!  Register for one,
  two, three, or all four weeks!June 12--Nature CollagesJune 26--Dino YogaJ
 uly 10--Pasta PaleontologyJuly 24--Dinosaur Ice Excavation
URL:https://evergreenparklibrary.librarymarket.com/index.php/event/little-
 archaeologists-nature-collages-98477
END:VEVENT
END:VCALENDAR
