BEGIN:VCALENDAR
VERSION:2.0
PRODID:-//Library Market//iCal Export//EN
BEGIN:VEVENT
SUMMARY:Plant Bingo with Booker
UID:98531
DTSTAMP:20260424T104600Z
DTSTART:20260627T190000Z
DTEND:20260627T194500Z
LOCATION:Evergreen Park Public Library, 9400 S. Troy Ave., Evergreen Park,
  IL 60805, United States
ROOM: Children&#039;s Program Room
DESCRIPTION:Play bingo for plants with the library&#039;s mascot, Booker! 
  For kids entering 5th grade and younger.
URL:https://evergreenparklibrary.librarymarket.com/index.php/event/plant-b
 ingo-booker-98531
END:VEVENT
END:VCALENDAR
