BEGIN:VCALENDAR
VERSION:2.0
PRODID:-//Library Market//iCal Export//EN
BEGIN:VEVENT
SUMMARY:Drop-In Craft--Juneteenth Bracelets
UID:98580
DTSTAMP:20260423T145200Z
DTSTART:20260617T190000Z
DTEND:20260617T210000Z
LOCATION:Evergreen Park Public Library, 9400 S. Troy Ave., Evergreen Park,
  IL 60805, United States
ROOM: Children&#039;s Program Room
DESCRIPTION:Kids entering 5th grade and younger are invited to drop in any
 time from 2pm-4pm to make a bracelet to help you get ready for your Junete
 enth celebration!
URL:https://evergreenparklibrary.librarymarket.com/index.php/event/drop-cr
 aft-juneteenth-bracelets-98580
END:VEVENT
END:VCALENDAR
