BEGIN:VCALENDAR
VERSION:2.0
PRODID:-//Library Market//iCal Export//EN
BEGIN:VEVENT
SUMMARY:America 250 Slime Workshop
UID:98589
DTSTAMP:20260423T145200Z
DTSTART:20260630T190000Z
DTEND:20260630T193000Z
LOCATION:Evergreen Park Public Library, 9400 S. Troy Ave., Evergreen Park,
  IL 60805, United States
ROOM: Meeting Room
DESCRIPTION:Make red, white, blue, or clear slime, then add in festive mix
 -ins and apple pie scent!
URL:https://evergreenparklibrary.librarymarket.com/index.php/event/america
 -250-slime-workshop-98589
END:VEVENT
END:VCALENDAR
