BEGIN:VCALENDAR
VERSION:2.0
PRODID:-//Library Market//iCal Export//EN
BEGIN:VEVENT
SUMMARY:Dino Dance Party!
UID:98615
DTSTAMP:20260423T145200Z
DTSTART:20260620T160000Z
DTEND:20260620T164500Z
LOCATION:Evergreen Park Public Library, 9400 S. Troy Ave., Evergreen Park,
  IL 60805, United States
ROOM: Meeting Room
DESCRIPTION:Join us for a dino-mite celebration of dinosaurs, music, and m
 ovement! Get ready to party, because everyone knows dinosaurs love to danc
 e! Costumes and dino-shirts are encouraged.  We&#039;ll be wearing our di
 nosaur costumes!
URL:https://evergreenparklibrary.librarymarket.com/index.php/event/dino-da
 nce-party-98615
END:VEVENT
END:VCALENDAR
