BEGIN:VCALENDAR
VERSION:2.0
PRODID:-//Library Market//iCal Export//EN
BEGIN:VEVENT
SUMMARY:Baby Bookworms
UID:98413
DTSTAMP:20260420T130600Z
DTSTART:20260622T143000Z
DTEND:20260622T150000Z
LOCATION:Evergreen Park Public Library, 9400 S. Troy Ave., Evergreen Park,
  IL 60805, United States
ROOM: Children&#039;s Program Room
DESCRIPTION:Enjoy stories, songs, rhymes and fun for you and your baby!  
 For babies from birth through 17 months with a caregiver.  Please registe
 r. 
URL:https://evergreenparklibrary.librarymarket.com/event/baby-bookworms-98
 413
END:VEVENT
END:VCALENDAR
