BEGIN:VCALENDAR
VERSION:2.0
PRODID:-//Library Market//iCal Export//EN
BEGIN:VEVENT
SUMMARY:Toddler Time
UID:98431
DTSTAMP:20260420T003700Z
DTSTART:20260708T143000Z
DTEND:20260708T150000Z
LOCATION:Evergreen Park Public Library, 9400 S. Troy Ave., Evergreen Park,
  IL 60805, United States
ROOM: Children&#039;s Program Room
DESCRIPTION:Toddler Time is an interactive storytime program for children 
 ages 18-35 months and their adult caregivers. Please register. 
URL:https://evergreenparklibrary.librarymarket.com/event/toddler-time-9843
 1
END:VEVENT
END:VCALENDAR
