BEGIN:VCALENDAR
VERSION:2.0
PRODID:-//Library Market//iCal Export//EN
BEGIN:VEVENT
SUMMARY:The Jurassic World of Shrinky Dinks
UID:98464
DTSTAMP:20260420T204300Z
DTSTART:20260716T000000Z
DTEND:20260716T004500Z
LOCATION:Evergreen Park Public Library, 9400 S. Troy Ave., Evergreen Park,
  IL 60805, United States
ROOM: Children&#039;s Program Room
DESCRIPTION:Design your own dinosaur Shrinky Dinks, watch them shrink, the
 n turn them into keychains or bag charms.
URL:https://evergreenparklibrary.librarymarket.com/event/jurassic-world-sh
 rinky-dinks-98464
END:VEVENT
END:VCALENDAR
