BEGIN:VCALENDAR
VERSION:2.0
PRODID:-//Library Market//iCal Export//EN
BEGIN:VEVENT
SUMMARY:Sculpt a Dinosaur
UID:98472
DTSTAMP:20260421T011300Z
DTSTART:20260611T000000Z
DTEND:20260611T003000Z
LOCATION:Evergreen Park Public Library, 9400 S. Troy Ave., Evergreen Park,
  IL 60805, United States
ROOM: Children&#039;s Program Room
DESCRIPTION:Sculpt a cute dinosaur out of air dry clay. This is a two-week
  series.  On June 10, we will build the dinosaur.  On June 17, we will p
 aint them.  You must attend both sessions.
URL:https://evergreenparklibrary.librarymarket.com/event/sculpt-dinosaur-9
 8472
END:VEVENT
END:VCALENDAR
