BEGIN:VCALENDAR
VERSION:2.0
PRODID:-//Library Market//iCal Export//EN
BEGIN:VEVENT
SUMMARY:Nintendo Switch Gaming
UID:98484
DTSTAMP:20260421T052200Z
DTSTART:20260829T200000Z
DTEND:20260829T204500Z
LOCATION:Evergreen Park Public Library, 9400 S. Troy Ave., Evergreen Park,
  IL 60805, United States
ROOM: Meeting Room
DESCRIPTION:Meet up each month with fellow gamers to play a variety of new
  and classic Switch games!  Register for one, two, or all three sessions!
URL:https://evergreenparklibrary.librarymarket.com/event/copy-nintendo-swi
 tch-gaming-98484
END:VEVENT
END:VCALENDAR
