BEGIN:VCALENDAR
VERSION:2.0
PRODID:-//Library Market//iCal Export//EN
BEGIN:VEVENT
SUMMARY:Life-Sized Clue
UID:98553
DTSTAMP:20260422T085900Z
DTSTART:20260711T203000Z
DTEND:20260711T210000Z
LOCATION:Evergreen Park Public Library, 9400 S. Troy Ave., Evergreen Park,
  IL 60805, United States
ROOM: Meeting Room
DESCRIPTION:Channel your inner detective as you move around the life-size 
 game of Clue, trying to guess whodunit!  Sign up for a 30-minute time slo
 t.  Each time slot is limited to 6 players. Arrive promptly at your regis
 tered time to ensure the game runs smoothly and avoid overcrowding.  Regi
 ster all adults and children playing.
URL:https://evergreenparklibrary.librarymarket.com/event/life-sized-clue-9
 8553
END:VEVENT
END:VCALENDAR
