BEGIN:VCALENDAR
VERSION:2.0
PRODID:-//Library Market//iCal Export//EN
BEGIN:VEVENT
SUMMARY:History in Lego Bricks
UID:98562
DTSTAMP:20260423T140400Z
DTSTART:20260630T233000Z
DTEND:20260701T001500Z
LOCATION:Evergreen Park Public Library, 9400 S. Troy Ave., Evergreen Park,
  IL 60805, United States
ROOM: Children&#039;s Program Room
DESCRIPTION:Use the Library&#039;s Legos to build structures inspired by d
 ifferent historical periods.  Most appropriate for kids entering kinderga
 rten through 5th grade.
URL:https://evergreenparklibrary.librarymarket.com/event/history-lego-bric
 ks-98562
END:VEVENT
END:VCALENDAR
