BEGIN:VCALENDAR
VERSION:2.0
PRODID:-//Library Market//iCal Export//EN
BEGIN:VEVENT
SUMMARY:STEAM Camp
UID:98566
DTSTAMP:20260423T140400Z
DTSTART:20260609T203000Z
DTEND:20260609T210000Z
LOCATION:Evergreen Park Public Library, 9400 S. Troy Ave., Evergreen Park,
  IL 60805, United States
ROOM: Children&#039;s Program Room
DESCRIPTION:Get ready to explore science, technology, engineering, art, an
 d math with experiments, games, and more!
URL:https://evergreenparklibrary.librarymarket.com/event/steam-camp-98566
END:VEVENT
END:VCALENDAR
