BEGIN:VCALENDAR
VERSION:2.0
PRODID:-//Library Market//iCal Export//EN
BEGIN:VEVENT
SUMMARY:Puzzle Race
UID:98603
DTSTAMP:20260424T101500Z
DTSTART:20260707T190000Z
DTEND:20260707T194500Z
LOCATION:Evergreen Park Public Library, 9400 S. Troy Ave., Evergreen Park,
  IL 60805, United States
ROOM: Children&#039;s Program Room
DESCRIPTION:Compete with other teams to see who can finish a 200 piece puz
 zle the fastest!  We will divide you into teams for some competitive puzz
 le assemblage.  For kids entering grades K-5.
URL:https://evergreenparklibrary.librarymarket.com/event/puzzle-race-98603
END:VEVENT
END:VCALENDAR
