BEGIN:VCALENDAR
VERSION:2.0
PRODID:-//Library Market//iCal Export//EN
BEGIN:VEVENT
SUMMARY:Stories in the Park
UID:98628
DTSTAMP:20260425T172600Z
DTSTART:20260828T153000Z
DTEND:20260828T160000Z
LOCATION:Evergreen Park Public Library, 9400 S. Troy Ave., Evergreen Park,
  IL 60805, United States
ROOM: Offsite
DESCRIPTION:Join us for outdoor stories at 10:30 AM in our beautiful parks
 !Friday, August 7:  Duffy Park (92nd and Millard)Friday, August 14:  Cir
 cle Park (97th and Homan)Friday, August 21:  Schwer Park, aka Cowboy Park
  (92nd and Homan)Friday, August 28:  Bejcek Park (90th and Troy) 
URL:https://evergreenparklibrary.librarymarket.com/event/stories-park-9862
 8
END:VEVENT
END:VCALENDAR
